BEGIN:VCALENDAR
VERSION:2.0
PRODID:-//Pingstkyrkan i Boden - ECPv6.8.2.1//NONSGML v1.0//EN
CALSCALE:GREGORIAN
METHOD:PUBLISH
X-ORIGINAL-URL:https://www.boden.pingst.se
X-WR-CALDESC:Events for Pingstkyrkan i Boden
REFRESH-INTERVAL;VALUE=DURATION:PT1H
X-Robots-Tag:noindex
X-PUBLISHED-TTL:PT1H
BEGIN:VTIMEZONE
TZID:Europe/Stockholm
BEGIN:DAYLIGHT
TZOFFSETFROM:+0100
TZOFFSETTO:+0200
TZNAME:CEST
DTSTART:20210328T010000
END:DAYLIGHT
BEGIN:STANDARD
TZOFFSETFROM:+0200
TZOFFSETTO:+0100
TZNAME:CET
DTSTART:20211031T010000
END:STANDARD
END:VTIMEZONE
BEGIN:VEVENT
DTSTART;TZID=Europe/Stockholm:20210505T190000
DTEND;TZID=Europe/Stockholm:20210505T190000
DTSTAMP:20260425T021538
CREATED:20210430T123138Z
LAST-MODIFIED:20210504T125016Z
UID:4261-1620241200-1620241200@www.boden.pingst.se
SUMMARY:Bön för Bibelskola Norr
DESCRIPTION:Klicka här om du vill delta i mötet 
URL:https://www.boden.pingst.se/handelse/bon-for-bibelskola-norr/
END:VEVENT
END:VCALENDAR