BEGIN:VCALENDAR
VERSION:2.0
PRODID:-//Pingstkyrkan i Boden - ECPv6.8.2.1//NONSGML v1.0//EN
CALSCALE:GREGORIAN
METHOD:PUBLISH
X-ORIGINAL-URL:https://www.boden.pingst.se
X-WR-CALDESC:Events for Pingstkyrkan i Boden
REFRESH-INTERVAL;VALUE=DURATION:PT1H
X-Robots-Tag:noindex
X-PUBLISHED-TTL:PT1H
BEGIN:VTIMEZONE
TZID:Europe/Stockholm
BEGIN:DAYLIGHT
TZOFFSETFROM:+0100
TZOFFSETTO:+0200
TZNAME:CEST
DTSTART:20210328T010000
END:DAYLIGHT
BEGIN:STANDARD
TZOFFSETFROM:+0200
TZOFFSETTO:+0100
TZNAME:CET
DTSTART:20211031T010000
END:STANDARD
END:VTIMEZONE
BEGIN:VEVENT
DTSTART;TZID=Europe/Stockholm:20210502T110000
DTEND;TZID=Europe/Stockholm:20210502T110000
DTSTAMP:20260425T040546
CREATED:20210419T072335Z
LAST-MODIFIED:20210419T072335Z
UID:4245-1619953200-1619953200@www.boden.pingst.se
SUMMARY:Gudstjänst
DESCRIPTION:med Marcus Sandström\, bön och lovsång. Sänds via Facebook och närradion.
URL:https://www.boden.pingst.se/handelse/gudstjanst-365/
END:VEVENT
BEGIN:VEVENT
DTSTART;TZID=Europe/Stockholm:20210502T173000
DTEND;TZID=Europe/Stockholm:20210502T173000
DTSTAMP:20260425T040546
CREATED:20210426T095524Z
LAST-MODIFIED:20210426T095531Z
UID:4250-1619976600-1619976600@www.boden.pingst.se
SUMMARY:Församlingsmöte via Teams
DESCRIPTION:Länk skickas ut i medlemsbrev under veckan.
URL:https://www.boden.pingst.se/handelse/forsamlingskvall-via-teams/
END:VEVENT
END:VCALENDAR