BEGIN:VCALENDAR
VERSION:2.0
PRODID:-//Pingstkyrkan i Boden - ECPv6.8.2.1//NONSGML v1.0//EN
CALSCALE:GREGORIAN
METHOD:PUBLISH
X-WR-CALNAME:Pingstkyrkan i Boden
X-ORIGINAL-URL:https://www.boden.pingst.se
X-WR-CALDESC:Events for Pingstkyrkan i Boden
REFRESH-INTERVAL;VALUE=DURATION:PT1H
X-Robots-Tag:noindex
X-PUBLISHED-TTL:PT1H
BEGIN:VTIMEZONE
TZID:Europe/Stockholm
BEGIN:DAYLIGHT
TZOFFSETFROM:+0100
TZOFFSETTO:+0200
TZNAME:CEST
DTSTART:20210328T010000
END:DAYLIGHT
BEGIN:STANDARD
TZOFFSETFROM:+0200
TZOFFSETTO:+0100
TZNAME:CET
DTSTART:20211031T010000
END:STANDARD
END:VTIMEZONE
BEGIN:VEVENT
DTSTART;TZID=Europe/Stockholm:20210319T130000
DTEND;TZID=Europe/Stockholm:20210319T130000
DTSTAMP:20260425T131628
CREATED:20210315T102700Z
LAST-MODIFIED:20210315T102700Z
UID:4212-1616158800-1616158800@www.boden.pingst.se
SUMMARY:After School
DESCRIPTION:i kyrkan för barn i åk2-6. 
URL:https://www.boden.pingst.se/handelse/after-school-3/
END:VEVENT
BEGIN:VEVENT
DTSTART;TZID=Europe/Stockholm:20210319T193000
DTEND;TZID=Europe/Stockholm:20210319T193000
DTSTAMP:20260425T131628
CREATED:20210315T102727Z
LAST-MODIFIED:20210315T102727Z
UID:4213-1616182200-1616182200@www.boden.pingst.se
SUMMARY:Ung på Noah's
DESCRIPTION:
URL:https://www.boden.pingst.se/handelse/ung-pa-noahs-31/
END:VEVENT
END:VCALENDAR