BEGIN:VCALENDAR
VERSION:2.0
PRODID:-//Pingstkyrkan i Boden - ECPv6.8.2.1//NONSGML v1.0//EN
CALSCALE:GREGORIAN
METHOD:PUBLISH
X-WR-CALNAME:Pingstkyrkan i Boden
X-ORIGINAL-URL:https://www.boden.pingst.se
X-WR-CALDESC:Events for Pingstkyrkan i Boden
REFRESH-INTERVAL;VALUE=DURATION:PT1H
X-Robots-Tag:noindex
X-PUBLISHED-TTL:PT1H
BEGIN:VTIMEZONE
TZID:Europe/Stockholm
BEGIN:DAYLIGHT
TZOFFSETFROM:+0100
TZOFFSETTO:+0200
TZNAME:CEST
DTSTART:20200329T010000
END:DAYLIGHT
BEGIN:STANDARD
TZOFFSETFROM:+0200
TZOFFSETTO:+0100
TZNAME:CET
DTSTART:20201025T010000
END:STANDARD
END:VTIMEZONE
BEGIN:VEVENT
DTSTART;TZID=Europe/Stockholm:20201220T100000
DTEND;TZID=Europe/Stockholm:20201220T100000
DTSTAMP:20260425T162330
CREATED:20201211T100438Z
LAST-MODIFIED:20201211T100438Z
UID:4137-1608458400-1608458400@www.boden.pingst.se
SUMMARY:Barnkyrkan online
DESCRIPTION:via Teams. Länk finns under fliken ’Barn’.
URL:https://www.boden.pingst.se/handelse/barnkyrkan-online-2/
END:VEVENT
BEGIN:VEVENT
DTSTART;TZID=Europe/Stockholm:20201220T110000
DTEND;TZID=Europe/Stockholm:20201220T110000
DTSTAMP:20260425T162330
CREATED:20201211T100546Z
LAST-MODIFIED:20201211T100546Z
UID:4138-1608462000-1608462000@www.boden.pingst.se
SUMMARY:Gudstjänst
DESCRIPTION:via Facebook Live\, närradion och webbradion. Besök av Marcus Sandström som predikar\, tillfälle för lovsång och bön.
URL:https://www.boden.pingst.se/handelse/gudstjanst-348/
END:VEVENT
BEGIN:VEVENT
DTSTART;TZID=Europe/Stockholm:20201220T173000
DTEND;TZID=Europe/Stockholm:20201220T173000
DTSTAMP:20260425T162330
CREATED:20201211T100626Z
LAST-MODIFIED:20201211T100626Z
UID:4139-1608485400-1608485400@www.boden.pingst.se
SUMMARY:Extrainsatt församlingsmöte
DESCRIPTION:via Teams. Länk och information finns i det senaste medlemsbrevet.
URL:https://www.boden.pingst.se/handelse/extrainsatt-forsamlingsmote/
END:VEVENT
BEGIN:VEVENT
DTSTART;TZID=Europe/Stockholm:20201220T180000
DTEND;TZID=Europe/Stockholm:20201220T180000
DTSTAMP:20260425T162330
CREATED:20201211T100702Z
LAST-MODIFIED:20201211T100702Z
UID:4140-1608487200-1608487200@www.boden.pingst.se
SUMMARY:Julkväll
DESCRIPTION:med gemenskap\, julquiz och lekar. Välkommen att vara med!
URL:https://www.boden.pingst.se/handelse/julkvall/
END:VEVENT
END:VCALENDAR